BEGIN:VCALENDAR
VERSION:2.0
PRODID:-//ZContent.net//ZapCalLib 1.0//EN
CALSCALE:GREGORIAN
METHOD:PUBLISH
BEGIN:VEVENT
SUMMARY:Die Bewohnbarkeit der Erde bewahren | Vortrag und Gespräch mit Jak
 ob Ullmann
DTSTART:20221004T183000
DTEND:20221004T210000
UID:2026-04-23-18-31-13-0-@calendar.boell.de
DTSTAMP:20260423T163113
DESCRIPTION:▶ Siehe Veranstaltungsbeschreibung – Erfurt – Landesstift
 ung Thüringen
END:VEVENT
END:VCALENDAR
