BEGIN:VCALENDAR
VERSION:2.0
PRODID:-//ZContent.net//ZapCalLib 1.0//EN
CALSCALE:GREGORIAN
METHOD:PUBLISH
BEGIN:VEVENT
SUMMARY:vollehalle 2022: Auf der Suche nach dem Morgen
DTSTART:20221014T190000
DTEND:20221014T210000
UID:2026-04-25-04-08-20-0-@calendar.boell.de
DTSTAMP:20260425T020820
DESCRIPTION:▶ Siehe Veranstaltungsbeschreibung – Erfurt – 
END:VEVENT
END:VCALENDAR
