BEGIN:VCALENDAR
VERSION:2.0
PRODID:-//ZContent.net//ZapCalLib 1.0//EN
CALSCALE:GREGORIAN
METHOD:PUBLISH
BEGIN:VEVENT
SUMMARY:Reproduktive Selbstbestimmung im Iran: Eine materialistische Kritik
  an Staat und Religion | Vortrag und Diskussion
DTSTART:20220922T190000
DTEND:20220922T210000
UID:2026-04-24-20-36-07-0-@calendar.boell.de
DTSTAMP:20260424T183607
DESCRIPTION:▶ Online-Veranstaltung – Landesstiftung Sachsen (Weiterdenk
 en)
END:VEVENT
END:VCALENDAR
