BEGIN:VCALENDAR
VERSION:2.0
PRODID:-//ZContent.net//ZapCalLib 1.0//EN
CALSCALE:GREGORIAN
METHOD:PUBLISH
BEGIN:VEVENT
SUMMARY:Fotografie und Karikatur  | mit Kulturwochen - der andere Blick
DTSTART:20221124T160000
DTEND:20221126T180000
UID:2026-04-25-02-12-25-0-@calendar.boell.de
DTSTAMP:20260425T001225
DESCRIPTION:▶ Siehe Veranstaltungsbeschreibung – Kiel – Landesstiftun
 g Schleswig-Holstein
END:VEVENT
END:VCALENDAR
