BEGIN:VCALENDAR
VERSION:2.0
PRODID:-//ZContent.net//ZapCalLib 1.0//EN
CALSCALE:GREGORIAN
METHOD:PUBLISH
BEGIN:VEVENT
SUMMARY:Shibaali | mit Kulturwochen - der andere Blick
DTSTART:20221105T200000
DTEND:20221105T220000
UID:2026-04-26-04-41-19-0-@calendar.boell.de
DTSTAMP:20260426T024119
DESCRIPTION:▶ Siehe Veranstaltungsbeschreibung – Kiel – Landesstiftun
 g Schleswig-Holstein
END:VEVENT
END:VCALENDAR
