BEGIN:VCALENDAR
VERSION:2.0
PRODID:-//ZContent.net//ZapCalLib 1.0//EN
CALSCALE:GREGORIAN
METHOD:PUBLISH
BEGIN:VEVENT
SUMMARY:Schatrandsch – Das Schachspiel | mit Kulturwochen - der andere Bl
 ick
DTSTART:20221104T200000
DTEND:20221104T220000
UID:2026-04-24-08-46-38-0-@calendar.boell.de
DTSTAMP:20260424T064638
DESCRIPTION:▶ Siehe Veranstaltungsbeschreibung – Kiel – Landesstiftun
 g Schleswig-Holstein
END:VEVENT
END:VCALENDAR
