BEGIN:VCALENDAR
VERSION:2.0
PRODID:-//ZContent.net//ZapCalLib 1.0//EN
CALSCALE:GREGORIAN
METHOD:PUBLISH
BEGIN:VEVENT
SUMMARY:Faarjam | mit Kulturwochen - der andere Blick
DTSTART:20221022T200000
DTEND:20221022T220000
UID:2026-04-24-22-52-25-0-@calendar.boell.de
DTSTAMP:20260424T205225
DESCRIPTION:▶ Siehe Veranstaltungsbeschreibung – Kiel – Landesstiftun
 g Schleswig-Holstein
END:VEVENT
END:VCALENDAR
