BEGIN:VCALENDAR
VERSION:2.0
PRODID:-//ZContent.net//ZapCalLib 1.0//EN
CALSCALE:GREGORIAN
METHOD:PUBLISH
BEGIN:VEVENT
SUMMARY:ALS ICH MIT HITLER SCHNAPSKIRSCHEN Aß | LESUNG
DTSTART:20220906T190000
DTEND:20220906T210000
UID:2026-04-25-12-29-05-0-@calendar.boell.de
DTSTAMP:20260425T102905
DESCRIPTION:▶ Siehe Veranstaltungsbeschreibung – Landesstiftung Sachsen
  (Weiterdenken)
END:VEVENT
END:VCALENDAR
