BEGIN:VCALENDAR
VERSION:2.0
PRODID:-//ZContent.net//ZapCalLib 1.0//EN
CALSCALE:GREGORIAN
METHOD:PUBLISH
BEGIN:VEVENT
SUMMARY:Stadtführung zu Hannovers kolonialen Spuren | Für Frauen*
DTSTART:20220919T170000
DTEND:20220919T190000
UID:2026-04-24-21-48-20-0-@calendar.boell.de
DTSTAMP:20260424T194820
DESCRIPTION:▶ Siehe Veranstaltungsbeschreibung – Hannover – Stiftung 
 Leben & Umwelt / Heinrich-Böll-Stiftung Niedersachsen
END:VEVENT
END:VCALENDAR
