BEGIN:VCALENDAR
VERSION:2.0
PRODID:-//ZContent.net//ZapCalLib 1.0//EN
CALSCALE:GREGORIAN
METHOD:PUBLISH
BEGIN:VEVENT
SUMMARY:Warum ich hier bin
DTSTART:20221005T180000
DTEND:20221005T193000
UID:2026-04-24-23-18-39-0-@calendar.boell.de
DTSTAMP:20260424T211839
DESCRIPTION:▶ Siehe Veranstaltungsbeschreibung – Heinrich Böll Stiftun
 g Baden-Württemberg
END:VEVENT
END:VCALENDAR
