BEGIN:VCALENDAR
VERSION:2.0
PRODID:-//ZContent.net//ZapCalLib 1.0//EN
CALSCALE:GREGORIAN
METHOD:PUBLISH
BEGIN:VEVENT
SUMMARY:Warum ich hier bin
DTSTART:20221104T190000
DTEND:20221104T203000
UID:2026-04-25-14-47-20-0-@calendar.boell.de
DTSTAMP:20260425T124720
DESCRIPTION:▶ Siehe Veranstaltungsbeschreibung – Heidelberg – Heinric
 h Böll Stiftung Baden-Württemberg
END:VEVENT
END:VCALENDAR
