BEGIN:VCALENDAR
VERSION:2.0
PRODID:-//ZContent.net//ZapCalLib 1.0//EN
CALSCALE:GREGORIAN
METHOD:PUBLISH
BEGIN:VEVENT
SUMMARY:Umwelt-Tag auf dem Achterdeck der Hansesail
DTSTART:20220812T100000
DTEND:20220812T180000
UID:2026-04-24-13-55-50-0-@calendar.boell.de
DTSTAMP:20260424T115550
DESCRIPTION:▶ Siehe Veranstaltungsbeschreibung – Rostock – Landesstif
 tung Mecklenburg-Vorpommern
END:VEVENT
END:VCALENDAR
