BEGIN:VCALENDAR
VERSION:2.0
PRODID:-//ZContent.net//ZapCalLib 1.0//EN
CALSCALE:GREGORIAN
METHOD:PUBLISH
BEGIN:VEVENT
SUMMARY:Tour de Thüringen  | Fahrradtour durch Thüringen mit spirit of fo
 otball
DTSTART:20220807T130000
DTEND:20220817T180000
UID:2026-04-25-04-58-57-0-@calendar.boell.de
DTSTAMP:20260425T025857
DESCRIPTION:▶ Siehe Veranstaltungsbeschreibung – 
END:VEVENT
END:VCALENDAR
