BEGIN:VCALENDAR
VERSION:2.0
PRODID:-//ZContent.net//ZapCalLib 1.0//EN
CALSCALE:GREGORIAN
METHOD:PUBLISH
BEGIN:VEVENT
SUMMARY:Andrei S. Markovits: Der Pass mein Zuhause | Lesung und Gespräch i
 n der Reihe Gegenworte 
DTSTART:20221018T193000
DTEND:20221018T210000
UID:2026-04-24-12-27-37-0-@calendar.boell.de
DTSTAMP:20260424T102737
DESCRIPTION:▶ Siehe Veranstaltungsbeschreibung – Freiburg – Heinrich 
 Böll Stiftung Baden-Württemberg
END:VEVENT
END:VCALENDAR
