BEGIN:VCALENDAR
VERSION:2.0
PRODID:-//ZContent.net//ZapCalLib 1.0//EN
CALSCALE:GREGORIAN
METHOD:PUBLISH
BEGIN:VEVENT
SUMMARY:(Kunst-)Therapie im Spannungsfeld weißer Dominanz - Sensibilisieru
 ng durch Kunst | Workshop im Rahmen der Political Art Days
DTSTART:20220911T120000
DTEND:20220911T133000
UID:2026-04-24-00-54-57-0-@calendar.boell.de
DTSTAMP:20260423T225457
DESCRIPTION:▶ Siehe Veranstaltungsbeschreibung – Dresden – Landesstif
 tung Sachsen (Weiterdenken)
END:VEVENT
END:VCALENDAR
