BEGIN:VCALENDAR
VERSION:2.0
PRODID:-//ZContent.net//ZapCalLib 1.0//EN
CALSCALE:GREGORIAN
METHOD:PUBLISH
BEGIN:VEVENT
SUMMARY:Fit für die Zukunft | Als Arbeitgeber*in attraktiv sein und bleibe
 n
DTSTART:20220926T183000
DTEND:20220926T200000
UID:2026-04-25-00-59-37-0-@calendar.boell.de
DTSTAMP:20260424T225937
DESCRIPTION:▶ Siehe Veranstaltungsbeschreibung – Stuttgart – Heinrich
  Böll Stiftung Baden-Württemberg
END:VEVENT
END:VCALENDAR
