BEGIN:VCALENDAR
VERSION:2.0
PRODID:-//ZContent.net//ZapCalLib 1.0//EN
CALSCALE:GREGORIAN
METHOD:PUBLISH
BEGIN:VEVENT
SUMMARY:Konzert mit Grupo Sal Duo „Porto la Plata“
DTSTART:20220924T190000
DTEND:20220924T190000
UID:2026-04-25-01-00-32-0-@calendar.boell.de
DTSTAMP:20260424T230032
DESCRIPTION:▶ Siehe Veranstaltungsbeschreibung – Bayreuth – Petra-Kel
 ly-Stiftung
END:VEVENT
END:VCALENDAR
