BEGIN:VCALENDAR
VERSION:2.0
PRODID:-//ZContent.net//ZapCalLib 1.0//EN
CALSCALE:GREGORIAN
METHOD:PUBLISH
BEGIN:VEVENT
SUMMARY:Stadtteil-Flohmarkt im Anscharcampus | mit dem Inklusiven Quartier
DTSTART:20220702T130000
DTEND:20220702T180000
UID:2026-04-24-11-48-09-0-@calendar.boell.de
DTSTAMP:20260424T094809
DESCRIPTION:▶ Siehe Veranstaltungsbeschreibung – Kiel – Landesstiftun
 g Schleswig-Holstein
END:VEVENT
END:VCALENDAR
