BEGIN:VCALENDAR
VERSION:2.0
PRODID:-//ZContent.net//ZapCalLib 1.0//EN
CALSCALE:GREGORIAN
METHOD:PUBLISH
BEGIN:VEVENT
SUMMARY:Weniger ist mehr? Konsum und das Gute Leben | Aktionstag  im LVR-In
 dustriemuseum Tuchfabrik Müller
DTSTART:20220813T120000
DTEND:20220813T170000
UID:2026-04-25-04-09-28-0-@calendar.boell.de
DTSTAMP:20260425T020928
DESCRIPTION:▶ Siehe Veranstaltungsbeschreibung – Landesstiftung Nordrhe
 in-Westfalen
END:VEVENT
END:VCALENDAR
