BEGIN:VCALENDAR
VERSION:2.0
PRODID:-//ZContent.net//ZapCalLib 1.0//EN
CALSCALE:GREGORIAN
METHOD:PUBLISH
BEGIN:VEVENT
SUMMARY:“Was sollen wir spielen? – Zukunftsthemen der Darstellenden Kü
 nste” | Konferenz im Rahmen des PHOENIX Theaterfestivals
DTSTART:20220705T190000
DTEND:20220705T203000
UID:2026-04-23-18-32-17-0-@calendar.boell.de
DTSTAMP:20260423T163217
DESCRIPTION:▶ Siehe Veranstaltungsbeschreibung – Erfurt – Landesstift
 ung Thüringen
END:VEVENT
END:VCALENDAR
