BEGIN:VCALENDAR
VERSION:2.0
PRODID:-//ZContent.net//ZapCalLib 1.0//EN
CALSCALE:GREGORIAN
METHOD:PUBLISH
BEGIN:VEVENT
SUMMARY:Ungenutzte Potenziale – fehlende Wege? | Berufliche Teilhabe von 
 höherqualifizierten Migrant*innen in der Region Lüneburg
DTSTART:20220620T100000
DTEND:20220620T140000
UID:2026-04-25-04-09-20-0-@calendar.boell.de
DTSTAMP:20260425T020920
DESCRIPTION:▶ Siehe Veranstaltungsbeschreibung – Externe Veranstaltung
END:VEVENT
END:VCALENDAR
