BEGIN:VCALENDAR
VERSION:2.0
PRODID:-//ZContent.net//ZapCalLib 1.0//EN
CALSCALE:GREGORIAN
METHOD:PUBLISH
BEGIN:VEVENT
SUMMARY:MEINE STUNDEN MIT LEO
DTSTART:20220706T200000
DTEND:20220706T220000
UID:2026-04-23-18-13-53-0-@calendar.boell.de
DTSTAMP:20260423T161353
DESCRIPTION:▶ Siehe Veranstaltungsbeschreibung – München – 
END:VEVENT
END:VCALENDAR
