BEGIN:VCALENDAR
VERSION:2.0
PRODID:-//ZContent.net//ZapCalLib 1.0//EN
CALSCALE:GREGORIAN
METHOD:PUBLISH
BEGIN:VEVENT
SUMMARY:How to be an Ally | Online-Seminar
DTSTART:20221008T100000
DTEND:20221008T130000
UID:2026-04-24-19-44-26-0-@calendar.boell.de
DTSTAMP:20260424T174426
DESCRIPTION:▶ Online-Veranstaltung – Landesstiftung Sachsen-Anhalt
END:VEVENT
END:VCALENDAR
