BEGIN:VCALENDAR
VERSION:2.0
PRODID:-//ZContent.net//ZapCalLib 1.0//EN
CALSCALE:GREGORIAN
METHOD:PUBLISH
BEGIN:VEVENT
SUMMARY:ABGESAGT! Gruppenmoderation. Techniken und Methoden der Moderation 
 | Präsenzseminar in Halle
DTSTART:20221112T100000
DTEND:20221112T170000
UID:2026-04-25-13-27-57-0-@calendar.boell.de
DTSTAMP:20260425T112757
DESCRIPTION:▶ Siehe Veranstaltungsbeschreibung – Landesstiftung Sachsen
 -Anhalt
END:VEVENT
END:VCALENDAR
