BEGIN:VCALENDAR
VERSION:2.0
PRODID:-//ZContent.net//ZapCalLib 1.0//EN
CALSCALE:GREGORIAN
METHOD:PUBLISH
BEGIN:VEVENT
SUMMARY:Klimawende-Werkstatt in Sankt-Peter-Ording | mit bewirk – Gemeins
 am fürs Klima
DTSTART:20220617T160000
DTEND:20220617T183000
UID:2026-04-25-23-41-16-0-@calendar.boell.de
DTSTAMP:20260425T214116
DESCRIPTION:▶ Siehe Veranstaltungsbeschreibung – Landesstiftung Schlesw
 ig-Holstein
END:VEVENT
END:VCALENDAR
