BEGIN:VCALENDAR
VERSION:2.0
PRODID:-//ZContent.net//ZapCalLib 1.0//EN
CALSCALE:GREGORIAN
METHOD:PUBLISH
BEGIN:VEVENT
SUMMARY:KitchenTalk: Home Grown – Regionaler Gartenbau 
DTSTART:20220611T170000
DTEND:20220611T200000
UID:2026-04-24-13-57-12-0-@calendar.boell.de
DTSTAMP:20260424T115712
DESCRIPTION:▶ Siehe Veranstaltungsbeschreibung – Dresden – Landesstif
 tung Sachsen (Weiterdenken)
END:VEVENT
END:VCALENDAR
