BEGIN:VCALENDAR
VERSION:2.0
PRODID:-//ZContent.net//ZapCalLib 1.0//EN
CALSCALE:GREGORIAN
METHOD:PUBLISH
BEGIN:VEVENT
SUMMARY:„ERNTE? HILFE!“ | Ein Theaterstück über Nahrung, Migration un
 d Kapitalismus
DTSTART:20220612T170000
DTEND:20220612T180030
UID:2026-04-23-19-14-35-0-@calendar.boell.de
DTSTAMP:20260423T171435
DESCRIPTION:▶ Siehe Veranstaltungsbeschreibung – Bremen – Landesstift
 ung Bremen
END:VEVENT
END:VCALENDAR
