BEGIN:VCALENDAR
VERSION:2.0
PRODID:-//ZContent.net//ZapCalLib 1.0//EN
CALSCALE:GREGORIAN
METHOD:PUBLISH
BEGIN:VEVENT
SUMMARY:Bedrohtes Kurdistan – Hoffnung auf Solidarität
DTSTART:20220614T190000
DTEND:20220614T210000
UID:2026-04-25-03-29-36-0-@calendar.boell.de
DTSTAMP:20260425T012936
DESCRIPTION:▶ Siehe Veranstaltungsbeschreibung – Berlin – Landesstift
 ung Berlin (Bildungswerk)
END:VEVENT
END:VCALENDAR
