BEGIN:VCALENDAR
VERSION:2.0
PRODID:-//ZContent.net//ZapCalLib 1.0//EN
CALSCALE:GREGORIAN
METHOD:PUBLISH
BEGIN:VEVENT
SUMMARY:Wohin steuert Albanien?  | Das Balkanland auf der Suche nach einer 
 europäischen Perspektive
DTSTART:20220614T170000
DTEND:20220614T180000
UID:2026-04-24-12-11-09-0-@calendar.boell.de
DTSTAMP:20260424T101109
DESCRIPTION:▶ Siehe Veranstaltungsbeschreibung – Heinrich Böll Stiftun
 g Baden-Württemberg
END:VEVENT
END:VCALENDAR
