BEGIN:VCALENDAR
VERSION:2.0
PRODID:-//ZContent.net//ZapCalLib 1.0//EN
CALSCALE:GREGORIAN
METHOD:PUBLISH
BEGIN:VEVENT
SUMMARY:Wie kann ich schnell und einfach Projekte umsetzen? (ausgebucht/War
 teliste) | Grundlagen des Projektmanagement für ehrenamtliche Organisatio
 nen
DTSTART:20221025T090000
DTEND:20221026T143000
UID:2026-04-26-04-41-04-0-@calendar.boell.de
DTSTAMP:20260426T024104
DESCRIPTION:▶ Siehe Veranstaltungsbeschreibung – Düsseldorf – Landes
 stiftung Nordrhein-Westfalen
END:VEVENT
END:VCALENDAR
