BEGIN:VCALENDAR
VERSION:2.0
PRODID:-//ZContent.net//ZapCalLib 1.0//EN
CALSCALE:GREGORIAN
METHOD:PUBLISH
BEGIN:VEVENT
SUMMARY:Wie kann ich konstruktiv mit Menschen reden? (ausgebucht/Warteliste
 ) | Grundlagen der gewaltfreien Kommunikation für ehrenamtlich Engagierte
DTSTART:20221007T173000
DTEND:20221008T210000
UID:2026-04-25-03-32-03-0-@calendar.boell.de
DTSTAMP:20260425T013203
DESCRIPTION:▶ Siehe Veranstaltungsbeschreibung – Düsseldorf – Landes
 stiftung Nordrhein-Westfalen
END:VEVENT
END:VCALENDAR
