BEGIN:VCALENDAR
VERSION:2.0
PRODID:-//ZContent.net//ZapCalLib 1.0//EN
CALSCALE:GREGORIAN
METHOD:PUBLISH
BEGIN:VEVENT
SUMMARY:Dialog zwischen Israelis und Palästinenser:innen | Wie kann dieser
  gelingen?
DTSTART:20220622T190000
DTEND:20220622T210000
UID:2026-04-25-01-00-21-0-@calendar.boell.de
DTSTAMP:20260424T230021
DESCRIPTION:▶ Siehe Veranstaltungsbeschreibung – München – Petra-Kel
 ly-Stiftung
END:VEVENT
END:VCALENDAR
