BEGIN:VCALENDAR
VERSION:2.0
PRODID:-//ZContent.net//ZapCalLib 1.0//EN
CALSCALE:GREGORIAN
METHOD:PUBLISH
BEGIN:VEVENT
SUMMARY:Fotografie-Ausstellung "Слава Україні – Es lebe die U
 kraine!"
DTSTART:20220613T100000
DTEND:20220831T143000
UID:2026-04-25-01-35-19-0-@calendar.boell.de
DTSTAMP:20260424T233519
DESCRIPTION:▶ Siehe Veranstaltungsbeschreibung – Landesstiftung Mecklen
 burg-Vorpommern
END:VEVENT
END:VCALENDAR
