BEGIN:VCALENDAR
VERSION:2.0
PRODID:-//ZContent.net//ZapCalLib 1.0//EN
CALSCALE:GREGORIAN
METHOD:PUBLISH
BEGIN:VEVENT
SUMMARY:Feminismus, Elternschaft & Utopien einer befreiten Gesellschaft | L
 esung und Diskussion
DTSTART:20220602T180000
DTEND:20220602T193000
UID:2026-04-24-12-27-04-0-@calendar.boell.de
DTSTAMP:20260424T102704
DESCRIPTION:▶ Siehe Veranstaltungsbeschreibung – Magdeburg – Landesst
 iftung Sachsen-Anhalt
END:VEVENT
END:VCALENDAR
