BEGIN:VCALENDAR
VERSION:2.0
PRODID:-//ZContent.net//ZapCalLib 1.0//EN
CALSCALE:GREGORIAN
METHOD:PUBLISH
BEGIN:VEVENT
SUMMARY:Resolution UNO | Ein Hotspot junger Demokratie 
DTSTART:20220620T140000
DTEND:20220620T153000
UID:2026-04-25-05-00-04-0-@calendar.boell.de
DTSTAMP:20260425T030004
DESCRIPTION:▶ Siehe Veranstaltungsbeschreibung – Hannover – Externe V
 eranstaltung
END:VEVENT
END:VCALENDAR
