BEGIN:VCALENDAR
VERSION:2.0
PRODID:-//ZContent.net//ZapCalLib 1.0//EN
CALSCALE:GREGORIAN
METHOD:PUBLISH
BEGIN:VEVENT
SUMMARY:Die Torwächter der Europäischen Union: Der Sudan nach El-Bashir
DTSTART:20220607T180000
DTEND:20220607T210000
UID:2026-04-24-05-19-29-0-@calendar.boell.de
DTSTAMP:20260424T031929
DESCRIPTION:▶ Siehe Veranstaltungsbeschreibung – Berlin – Landesstift
 ung Berlin (Bildungswerk)
END:VEVENT
END:VCALENDAR
