BEGIN:VCALENDAR
VERSION:2.0
PRODID:-//ZContent.net//ZapCalLib 1.0//EN
CALSCALE:GREGORIAN
METHOD:PUBLISH
BEGIN:VEVENT
SUMMARY:Cultural Mapping in der Praxis | von KunstMacht
DTSTART:20220517T160000
DTEND:20220517T180000
UID:2026-04-24-14-24-52-0-@calendar.boell.de
DTSTAMP:20260424T122452
DESCRIPTION:▶ Siehe Veranstaltungsbeschreibung – Kiel – Landesstiftun
 g Schleswig-Holstein
END:VEVENT
END:VCALENDAR
