BEGIN:VCALENDAR
VERSION:2.0
PRODID:-//ZContent.net//ZapCalLib 1.0//EN
CALSCALE:GREGORIAN
METHOD:PUBLISH
BEGIN:VEVENT
SUMMARY:ABGESAGT! Ruhe gibt es nicht bis zum Schluss | Auf den Spuren von E
 rika und Klaus Mann
DTSTART:20220602T193000
DTEND:20220602T210000
UID:2026-04-25-01-01-17-0-@calendar.boell.de
DTSTAMP:20260424T230117
DESCRIPTION:▶ Siehe Veranstaltungsbeschreibung – Osnabrück – Stiftun
 g Leben & Umwelt / Heinrich-Böll-Stiftung Niedersachsen
END:VEVENT
END:VCALENDAR
