BEGIN:VCALENDAR
VERSION:2.0
PRODID:-//ZContent.net//ZapCalLib 1.0//EN
CALSCALE:GREGORIAN
METHOD:PUBLISH
BEGIN:VEVENT
SUMMARY:Klima- und Umweltschutz für Rochlitz, Seelitz und Wechselburg | Re
 gionalkonferenz
DTSTART:20220521T100000
DTEND:20220521T150000
UID:2026-04-24-21-12-37-0-@calendar.boell.de
DTSTAMP:20260424T191237
DESCRIPTION:▶ Siehe Veranstaltungsbeschreibung – Landesstiftung Sachsen
  (Weiterdenken)
END:VEVENT
END:VCALENDAR
