BEGIN:VCALENDAR
VERSION:2.0
PRODID:-//ZContent.net//ZapCalLib 1.0//EN
CALSCALE:GREGORIAN
METHOD:PUBLISH
BEGIN:VEVENT
SUMMARY:FROM HERE |  Filmvorführung und Gespräch
DTSTART:20220518T200000
DTEND:20220518T223000
UID:2026-04-24-06-42-04-0-@calendar.boell.de
DTSTAMP:20260424T044204
DESCRIPTION:▶ Siehe Veranstaltungsbeschreibung – Hamburg – Landesstif
 tung Hamburg
END:VEVENT
END:VCALENDAR
