BEGIN:VCALENDAR
VERSION:2.0
PRODID:-//ZContent.net//ZapCalLib 1.0//EN
CALSCALE:GREGORIAN
METHOD:PUBLISH
BEGIN:VEVENT
SUMMARY:Wie geht gute Klimakommunikation?
DTSTART:20220622T173000
DTEND:20220622T203000
UID:2026-04-25-03-30-26-0-@calendar.boell.de
DTSTAMP:20260425T013026
DESCRIPTION:▶ Online-Veranstaltung – Landesstiftung Hessen
END:VEVENT
END:VCALENDAR
