BEGIN:VCALENDAR
VERSION:2.0
PRODID:-//ZContent.net//ZapCalLib 1.0//EN
CALSCALE:GREGORIAN
METHOD:PUBLISH
BEGIN:VEVENT
SUMMARY:Stadtrundgang Widerstand im Bahnhofsviertel/ Altstadt
DTSTART:20220428T130000
DTEND:20220428T150000
UID:2026-04-24-03-26-07-0-@calendar.boell.de
DTSTAMP:20260424T012607
DESCRIPTION:▶ Siehe Veranstaltungsbeschreibung – Frankfurt (Main) – L
 andesstiftung Hessen
END:VEVENT
END:VCALENDAR
