BEGIN:VCALENDAR
VERSION:2.0
PRODID:-//ZContent.net//ZapCalLib 1.0//EN
CALSCALE:GREGORIAN
METHOD:PUBLISH
BEGIN:VEVENT
SUMMARY:Der CO2-Preis: Leitinstrument der Klimapolitik?
DTSTART:20220615T170000
DTEND:20220615T183000
UID:2026-04-24-03-26-23-0-@calendar.boell.de
DTSTAMP:20260424T012623
DESCRIPTION:▶ Online-Veranstaltung – Heinrich-Böll-Stiftung - Bundesst
 iftung Berlin
END:VEVENT
END:VCALENDAR
