BEGIN:VCALENDAR
VERSION:2.0
PRODID:-//ZContent.net//ZapCalLib 1.0//EN
CALSCALE:GREGORIAN
METHOD:PUBLISH
BEGIN:VEVENT
SUMMARY:Öffentlichkeit, digitale Netzwerke und politische Kommunikation | 
 Berliner Brasiliendialoge: Die entscheidenden Wahlen in 2022
DTSTART:20220706T180000
DTEND:20220706T200000
UID:2026-04-23-08-38-02-0-@calendar.boell.de
DTSTAMP:20260423T063802
DESCRIPTION:▶ Siehe Veranstaltungsbeschreibung – Heinrich-Böll-Stiftun
 g - Bundesstiftung Berlin
END:VEVENT
END:VCALENDAR
