BEGIN:VCALENDAR
VERSION:2.0
PRODID:-//ZContent.net//ZapCalLib 1.0//EN
CALSCALE:GREGORIAN
METHOD:PUBLISH
BEGIN:VEVENT
SUMMARY:Die drei Gewalten und demokratische Governance  | Berliner Brasilie
 ndialoge: Die entscheidenden Wahlen in 2022
DTSTART:20220504T180000
DTEND:20220504T200000
UID:2026-04-24-12-47-08-0-@calendar.boell.de
DTSTAMP:20260424T104708
DESCRIPTION:▶ Siehe Veranstaltungsbeschreibung – Heinrich-Böll-Stiftun
 g - Bundesstiftung Berlin
END:VEVENT
END:VCALENDAR
