BEGIN:VCALENDAR
VERSION:2.0
PRODID:-//ZContent.net//ZapCalLib 1.0//EN
CALSCALE:GREGORIAN
METHOD:PUBLISH
BEGIN:VEVENT
SUMMARY:Erinnerung unter besonderen Vorzeichen | Europäische Aktionswochen
  für eine Zukunft nach Tschernobyl und Fukushima
DTSTART:20220427T180000
DTEND:20220427T200000
UID:2026-04-24-10-53-42-0-@calendar.boell.de
DTSTAMP:20260424T085342
DESCRIPTION:▶ Siehe Veranstaltungsbeschreibung – Lübeck – 
END:VEVENT
END:VCALENDAR
