BEGIN:VCALENDAR
VERSION:2.0
PRODID:-//ZContent.net//ZapCalLib 1.0//EN
CALSCALE:GREGORIAN
METHOD:PUBLISH
BEGIN:VEVENT
SUMMARY:#ZukunftVorOrt  | Taktiken & Strategien für nachhaltige Entwicklun
 gen vor Ort
DTSTART:20220513T143000
DTEND:20220513T170000
UID:2026-04-24-01-23-40-0-@calendar.boell.de
DTSTAMP:20260423T232340
DESCRIPTION:Stiftung Leben & Umwelt / Heinrich-Böll-Stiftung Niedersachsen
END:VEVENT
END:VCALENDAR
