BEGIN:VCALENDAR
VERSION:2.0
PRODID:-//ZContent.net//ZapCalLib 1.0//EN
CALSCALE:GREGORIAN
METHOD:PUBLISH
BEGIN:VEVENT
SUMMARY:Reden ist einfach- das Konzept der gewaltfreien Kommunikation  | Ki
 ta Fachdebatte
DTSTART:20220518T150000
DTEND:20220518T180000
UID:2026-04-24-12-56-08-0-@calendar.boell.de
DTSTAMP:20260424T105608
DESCRIPTION:▶ Siehe Veranstaltungsbeschreibung – 
END:VEVENT
END:VCALENDAR
