BEGIN:VCALENDAR
VERSION:2.0
PRODID:-//ZContent.net//ZapCalLib 1.0//EN
CALSCALE:GREGORIAN
METHOD:PUBLISH
BEGIN:VEVENT
SUMMARY:This Rain Will Never Stop | Film mit Einführung
DTSTART:20220506T190000
DTEND:20220506T210000
UID:2026-04-23-14-39-01-0-@calendar.boell.de
DTSTAMP:20260423T123901
DESCRIPTION:▶ Siehe Veranstaltungsbeschreibung – Weimar – Landesstift
 ung Thüringen
END:VEVENT
END:VCALENDAR
