BEGIN:VCALENDAR
VERSION:2.0
PRODID:-//ZContent.net//ZapCalLib 1.0//EN
CALSCALE:GREGORIAN
METHOD:PUBLISH
BEGIN:VEVENT
SUMMARY:Der Mord an Frauen* hat einen Namen: Femizid
DTSTART:20220428T190000
DTEND:20220428T210000
UID:2026-04-25-01-35-35-0-@calendar.boell.de
DTSTAMP:20260424T233535
DESCRIPTION:▶ Siehe Veranstaltungsbeschreibung – Hamburg – Landesstif
 tung Hamburg
END:VEVENT
END:VCALENDAR
